BEGIN:VCALENDAR
VERSION:2.0
PRODID:-//No Regrets Running - ECPv6.15.20//NONSGML v1.0//EN
CALSCALE:GREGORIAN
METHOD:PUBLISH
X-WR-CALNAME:No Regrets Running
X-ORIGINAL-URL:https://noregretsrunning.com
X-WR-CALDESC:Events for No Regrets Running
REFRESH-INTERVAL;VALUE=DURATION:PT1H
X-Robots-Tag:noindex
X-PUBLISHED-TTL:PT1H
BEGIN:VTIMEZONE
TZID:Europe/London
BEGIN:DAYLIGHT
TZOFFSETFROM:+0000
TZOFFSETTO:+0100
TZNAME:BST
DTSTART:20250330T010000
END:DAYLIGHT
BEGIN:STANDARD
TZOFFSETFROM:+0100
TZOFFSETTO:+0000
TZNAME:GMT
DTSTART:20251026T010000
END:STANDARD
BEGIN:DAYLIGHT
TZOFFSETFROM:+0000
TZOFFSETTO:+0100
TZNAME:BST
DTSTART:20260329T010000
END:DAYLIGHT
BEGIN:STANDARD
TZOFFSETFROM:+0100
TZOFFSETTO:+0000
TZNAME:GMT
DTSTART:20261025T010000
END:STANDARD
BEGIN:DAYLIGHT
TZOFFSETFROM:+0000
TZOFFSETTO:+0100
TZNAME:BST
DTSTART:20270328T010000
END:DAYLIGHT
BEGIN:STANDARD
TZOFFSETFROM:+0100
TZOFFSETTO:+0000
TZNAME:GMT
DTSTART:20271031T010000
END:STANDARD
END:VTIMEZONE
BEGIN:VEVENT
DTSTART;TZID=Europe/London:20260201T000000
DTEND;TZID=Europe/London:20260201T235959
DTSTAMP:20260424T160702
CREATED:20251128T122826Z
LAST-MODIFIED:20251229T123631Z
UID:10001071-1769904000-1769990399@noregretsrunning.com
SUMMARY:Slaughterford 9
DESCRIPTION:Returning again for 2026! The Slaughterford 9 is a multi-terrain race over around 9 (about 8.5) miles of steeply undulating countryside\, carrying a sting in its tail! \n\n\n\nWhilst tackling around 900 feet of ascent/descent in the Slaughterford valley\, runners will encounter tarmac\, stony paths\, fields\, tracks and green lanes. So\, this is a typically technical course and during winter you can expect to find varying quantities of muddy paths. \n\n\n\nThe terrain of the course consists of around 75% off-road. The route will be well marshalled\, and sign posted with a water station provided before half-way (around 4 miles). \n\n\n\n\n\nPlease note that this event is not organised by No Regrets Running. Details given here are for information purposes only and should not be relied upon. You should check with the organiser to confirm dates\, times\, starting locations\, costs and all other details. No Regrets Running has no connection with the event organiser.
URL:https://noregretsrunning.com/event/slaughterford-9/
CATEGORIES:External Events
END:VEVENT
END:VCALENDAR