BEGIN:VCALENDAR
VERSION:2.0
PRODID:-//No Regrets Running - ECPv6.15.20//NONSGML v1.0//EN
CALSCALE:GREGORIAN
METHOD:PUBLISH
X-ORIGINAL-URL:https://noregretsrunning.com
X-WR-CALDESC:Events for No Regrets Running
REFRESH-INTERVAL;VALUE=DURATION:PT1H
X-Robots-Tag:noindex
X-PUBLISHED-TTL:PT1H
BEGIN:VTIMEZONE
TZID:Europe/London
BEGIN:DAYLIGHT
TZOFFSETFROM:+0000
TZOFFSETTO:+0100
TZNAME:BST
DTSTART:20250330T010000
END:DAYLIGHT
BEGIN:STANDARD
TZOFFSETFROM:+0100
TZOFFSETTO:+0000
TZNAME:GMT
DTSTART:20251026T010000
END:STANDARD
BEGIN:DAYLIGHT
TZOFFSETFROM:+0000
TZOFFSETTO:+0100
TZNAME:BST
DTSTART:20260329T010000
END:DAYLIGHT
BEGIN:STANDARD
TZOFFSETFROM:+0100
TZOFFSETTO:+0000
TZNAME:GMT
DTSTART:20261025T010000
END:STANDARD
BEGIN:DAYLIGHT
TZOFFSETFROM:+0000
TZOFFSETTO:+0100
TZNAME:BST
DTSTART:20270328T010000
END:DAYLIGHT
BEGIN:STANDARD
TZOFFSETFROM:+0100
TZOFFSETTO:+0000
TZNAME:GMT
DTSTART:20271031T010000
END:STANDARD
END:VTIMEZONE
BEGIN:VEVENT
DTSTART;TZID=Europe/London:20260906T110000
DTEND;TZID=Europe/London:20260906T140000
DTSTAMP:20260422T134537
CREATED:20250901T112502Z
LAST-MODIFIED:20251013T122327Z
UID:10001070-1788692400-1788703200@noregretsrunning.com
SUMMARY:Run for Tash 10k
DESCRIPTION:Please note that this event is not organised by No Regrets Running. Details given here are for information purposes only and should not be relied upon. You should check with the organiser to confirm dates\, times\, starting locations\, costs and all other details. No Regrets Running has no connection with the event organiser.
URL:https://noregretsrunning.com/event/run-for-tash-10k/2026-09-06/
LOCATION:Odd Down Cycle Track\, Chelwood Drive\, Bath\, BA2 2PR\, United Kingdom
CATEGORIES:External Events
END:VEVENT
END:VCALENDAR